BEGIN:VCALENDAR
VERSION:2.0
PRODID:-//ZContent.net//ZapCalLib 1.0//EN
CALSCALE:GREGORIAN
METHOD:PUBLISH
BEGIN:VEVENT
SUMMARY:„Vulva la Revolución? Vulva als Protestform“ | Podiumsdiskussi
 on im Rahmen der "vulva me"- Ausstellung
DTSTART:20210306T163000
DTEND:20210306T183000
UID:2026-04-24-01-39-15-0-@calendar.boell.de
DTSTAMP:20260423T233915
DESCRIPTION:▶ Online-Veranstaltung – Deutschland – Landesstiftung Sac
 hsen (Weiterdenken)
END:VEVENT
END:VCALENDAR
