BEGIN:VCALENDAR
VERSION:2.0
PRODID:-//ZContent.net//ZapCalLib 1.0//EN
CALSCALE:GREGORIAN
METHOD:PUBLISH
BEGIN:VEVENT
SUMMARY:Wahre Männlichkeit? Männlichkeiten und Männlichkeitsbilder in de
 r Neuen Rechten | #3 Männlichkeit(en) und die Ideologie der Ungleichwerti
 gkeit – ein präventiver Blick aus der Mobilen Beratung gegen Rechtsextr
 emismus
DTSTART:20210323T160000
DTEND:20210323T180000
UID:2021-12-02-03-06-26-0-@calendar.boell.de
DTSTAMP:20211202T020626
DESCRIPTION:▶ Online-Veranstaltung – Gunda-Werner-Institut für Feminis
 mus und Geschlechterdemokratie
END:VEVENT
END:VCALENDAR
