BEGIN:VCALENDAR
VERSION:2.0
PRODID:-//ZContent.net//ZapCalLib 1.0//EN
CALSCALE:GREGORIAN
METHOD:PUBLISH
BEGIN:VEVENT
SUMMARY:In der Kommunalpolitik seine Frau stehen | Teil 2 von 2 | Ausgebuch
 t | Eigenes Politikverständnis schärfen, Machtstrategien entwickeln
DTSTART:20210320T100000
DTEND:20210320T143000
UID:2021-12-02-05-46-03-0-@calendar.boell.de
DTSTAMP:20211202T044603
DESCRIPTION:▶ Online-Veranstaltung – Heinrich Böll Stiftung Baden-Wür
 ttemberg
END:VEVENT
END:VCALENDAR
