BEGIN:VCALENDAR
VERSION:2.0
PRODID:-//ZContent.net//ZapCalLib 1.0//EN
CALSCALE:GREGORIAN
METHOD:PUBLISH
BEGIN:VEVENT
SUMMARY:In der Kommunalpolitik seine Frau stehen | Teil 1 von 2 | Ausgebuch
 t | Eigenes Politikverständnis schärfen, Machtstrategien entwickeln
DTSTART:20210319T160000
DTEND:20210319T180000
UID:2021-12-02-05-45-50-0-@calendar.boell.de
DTSTAMP:20211202T044550
DESCRIPTION:▶ Online-Veranstaltung – Heinrich Böll Stiftung Baden-Wür
 ttemberg
END:VEVENT
END:VCALENDAR
