BEGIN:VCALENDAR
VERSION:2.0
PRODID:-//ZContent.net//ZapCalLib 1.0//EN
CALSCALE:GREGORIAN
METHOD:PUBLISH
BEGIN:VEVENT
SUMMARY:Fifty Shades of Marktwirtschaft | Die Vielfalt der Märkte und die 
 Einfalt des Kapitalismus
DTSTART:20210312T160000
DTEND:20210313T153000
UID:2021-12-02-05-53-13-0-@calendar.boell.de
DTSTAMP:20211202T045313
DESCRIPTION:▶ Siehe Veranstaltungsbeschreibung – Landesstiftung Berlin 
 (Bildungswerk)
END:VEVENT
END:VCALENDAR
