BEGIN:VCALENDAR
VERSION:2.0
PRODID:-//ZContent.net//ZapCalLib 1.0//EN
CALSCALE:GREGORIAN
METHOD:PUBLISH
BEGIN:VEVENT
SUMMARY:Globale Impfgerechtigkeit?!
DTSTART:20210303T180000
DTEND:20210303T190000
UID:2026-04-22-21-27-35-0-@calendar.boell.de
DTSTAMP:20260422T192735
DESCRIPTION:▶ Siehe Veranstaltungsbeschreibung – Heinrich Böll Stiftun
 g Baden-Württemberg
END:VEVENT
END:VCALENDAR
