BEGIN:VCALENDAR
VERSION:2.0
PRODID:-//ZContent.net//ZapCalLib 1.0//EN
CALSCALE:GREGORIAN
METHOD:PUBLISH
BEGIN:VEVENT
SUMMARY:Anne-Klein-Frauenpreis 2021 an Cânân Arın | Preisverleihung
DTSTART:20210305T180000
DTEND:20210305T190000
UID:2026-04-23-22-29-39-0-@calendar.boell.de
DTSTAMP:20260423T202939
DESCRIPTION:▶ Siehe Veranstaltungsbeschreibung – Heinrich-Böll-Stiftun
 g - Bundesstiftung Berlin
END:VEVENT
END:VCALENDAR
