BEGIN:VCALENDAR
VERSION:2.0
PRODID:-//ZContent.net//ZapCalLib 1.0//EN
CALSCALE:GREGORIAN
METHOD:PUBLISH
BEGIN:VEVENT
SUMMARY:"After Sabeen" | Film und Diskussion
DTSTART:20210424T160000
DTEND:20210424T180000
UID:2021-12-02-05-37-31-0-@calendar.boell.de
DTSTAMP:20211202T043731
DESCRIPTION:▶ Siehe Veranstaltungsbeschreibung – Landesstiftung Berlin 
 (Bildungswerk)
END:VEVENT
END:VCALENDAR
