BEGIN:VCALENDAR
VERSION:2.0
PRODID:-//ZContent.net//ZapCalLib 1.0//EN
CALSCALE:GREGORIAN
METHOD:PUBLISH
BEGIN:VEVENT
SUMMARY:PRÄSENZ! – Ein Empowerment-Workshop für Frauen* / Präsenzveran
 staltung in Magdeburg | Nur noch Plätze für Personen mit Wohnsitz in Sac
 hsen-Anhalt/überregional ausgebucht/Warteliste voll
DTSTART:20210703T100000
DTEND:20210703T170000
UID:2021-12-02-04-36-12-0-@calendar.boell.de
DTSTAMP:20211202T033612
DESCRIPTION:▶ Siehe Veranstaltungsbeschreibung – Magdeburg – Landesst
 iftung Sachsen-Anhalt
END:VEVENT
END:VCALENDAR
