BEGIN:VCALENDAR
VERSION:2.0
PRODID:-//ZContent.net//ZapCalLib 1.0//EN
CALSCALE:GREGORIAN
METHOD:PUBLISH
BEGIN:VEVENT
SUMMARY:Solidarität_ aber Wie? | Ist Teilhabe Für Alle Möglich?
DTSTART:20210309T193000
DTEND:20210309T210000
UID:2026-04-23-06-00-15-0-@calendar.boell.de
DTSTAMP:20260423T040015
DESCRIPTION:▶ Siehe Veranstaltungsbeschreibung – Landesstiftung Hessen
END:VEVENT
END:VCALENDAR
