BEGIN:VCALENDAR
VERSION:2.0
PRODID:-//ZContent.net//ZapCalLib 1.0//EN
CALSCALE:GREGORIAN
METHOD:PUBLISH
BEGIN:VEVENT
SUMMARY:25 Jahre Dayton-„Verfassung“: RESTART für Bosnien und Herzegow
 ina? | Wege in die Bürger*innengesellschaft
DTSTART:20210223T180000
DTEND:20210223T200000
UID:2026-04-23-06-56-23-0-@calendar.boell.de
DTSTAMP:20260423T045623
DESCRIPTION:▶ Online-Veranstaltung – Heinrich-Böll-Stiftung - Bundesst
 iftung Berlin
END:VEVENT
END:VCALENDAR
