BEGIN:VCALENDAR
VERSION:2.0
PRODID:-//ZContent.net//ZapCalLib 1.0//EN
CALSCALE:GREGORIAN
METHOD:PUBLISH
BEGIN:VEVENT
SUMMARY:#3 Zukunftsinvestitionen: Infrastrukturen für die ökologisch-sozi
 ale Transformation | Online-Seminar zum Infrastruktur-Atlas
DTSTART:20210317T170000
DTEND:20210317T181500
UID:2026-04-23-06-00-13-0-@calendar.boell.de
DTSTAMP:20260423T040013
DESCRIPTION:▶ Online-Veranstaltung – Heinrich-Böll-Stiftung - Bundesst
 iftung Berlin
END:VEVENT
END:VCALENDAR
