BEGIN:VCALENDAR
VERSION:2.0
PRODID:-//ZContent.net//ZapCalLib 1.0//EN
CALSCALE:GREGORIAN
METHOD:PUBLISH
BEGIN:VEVENT
SUMMARY:Für Sama | Filmscreening und Gespräch  | mit Mohamed Hussein (Hom
 etown e. V.) und Christoph Dinkelaker (dis:orient e. V.)
DTSTART:20210623T180000
DTEND:20210623T210000
UID:2021-12-02-05-36-55-0-@calendar.boell.de
DTSTAMP:20211202T043655
DESCRIPTION:▶ Siehe Veranstaltungsbeschreibung – Hannover – Landessti
 ftung Niedersachsen (Leben & Umwelt)
END:VEVENT
END:VCALENDAR
