BEGIN:VCALENDAR
VERSION:2.0
PRODID:-//ZContent.net//ZapCalLib 1.0//EN
CALSCALE:GREGORIAN
METHOD:PUBLISH
BEGIN:VEVENT
SUMMARY:Ungleichzeitigkeiten im Wandel der Arbeitswelt | „Kristalle der H
 offnung – Kristalle der Utopie“ | In Erinnerung an den Naturwissenscha
 ftler, „Umweltbildner“ und Philosophen Jan Robert Bloch (1937–2010)
DTSTART:20210316T180000
DTEND:20210316T193000
UID:2026-04-23-08-39-00-0-@calendar.boell.de
DTSTAMP:20260423T063900
DESCRIPTION:▶ Siehe Veranstaltungsbeschreibung – Heinrich Böll Stiftun
 g Baden-Württemberg
END:VEVENT
END:VCALENDAR
