BEGIN:VCALENDAR
VERSION:2.0
PRODID:-//ZContent.net//ZapCalLib 1.0//EN
CALSCALE:GREGORIAN
METHOD:PUBLISH
BEGIN:VEVENT
SUMMARY:Das Leben künstlich oder menschlich machen? Kritik des Transhumani
 smus   | „Kristalle der Hoffnung – Kristalle der Utopie“ | In Erinn
 erung an den Naturwissenschaftler, „Umweltbildner“ und Philosophen Jan
  Robert Bloch (1937–2010)
DTSTART:20210302T180000
DTEND:20210302T193000
UID:2026-04-22-23-08-26-0-@calendar.boell.de
DTSTAMP:20260422T210826
DESCRIPTION:▶ Siehe Veranstaltungsbeschreibung – Heinrich Böll Stiftun
 g Baden-Württemberg
END:VEVENT
END:VCALENDAR
