BEGIN:VCALENDAR
VERSION:2.0
PRODID:-//ZContent.net//ZapCalLib 1.0//EN
CALSCALE:GREGORIAN
METHOD:PUBLISH
BEGIN:VEVENT
SUMMARY:Zum Vermächtnis von Jan Robert Bloch: Vierzig Jahre „Natur und A
 rbeit: Zur Bestimmung ihrer Vermittlung“ | „Kristalle der Hoffnung –
  Kristalle der Utopie“ | In Erinnerung an den Naturwissenschaftler, „U
 mweltbildner“ und Philosophen Jan Robert Bloch (1937–2010)
DTSTART:20210223T180000
DTEND:20210223T193000
UID:2026-04-23-04-35-53-0-@calendar.boell.de
DTSTAMP:20260423T023553
DESCRIPTION:▶ Siehe Veranstaltungsbeschreibung – Heinrich Böll Stiftun
 g Baden-Württemberg
END:VEVENT
END:VCALENDAR
