BEGIN:VCALENDAR
VERSION:2.0
PRODID:-//ZContent.net//ZapCalLib 1.0//EN
CALSCALE:GREGORIAN
METHOD:PUBLISH
BEGIN:VEVENT
SUMMARY:AUSGEBUCHT Finde Deine Botschaft | Social Media Management für Ver
 eine, Initiativen und Verbände 
DTSTART:20211112T170000
DTEND:20211113T130000
UID:2026-04-23-00-48-20-0-@calendar.boell.de
DTSTAMP:20260422T224820
DESCRIPTION:▶ Online-Veranstaltung – Landesstiftung Hamburg
END:VEVENT
END:VCALENDAR
