BEGIN:VCALENDAR
VERSION:2.0
PRODID:-//ZContent.net//ZapCalLib 1.0//EN
CALSCALE:GREGORIAN
METHOD:PUBLISH
BEGIN:VEVENT
SUMMARY:Grenzen einreißen! Migration und Pandemie | 
DTSTART:20210111T190000
DTEND:20210111T203000
UID:2021-12-02-05-37-38-0-@calendar.boell.de
DTSTAMP:20211202T043738
DESCRIPTION:▶ Online-Veranstaltung – Petra-Kelly-Stiftung
END:VEVENT
END:VCALENDAR
