BEGIN:VCALENDAR
VERSION:2.0
PRODID:-//ZContent.net//ZapCalLib 1.0//EN
CALSCALE:GREGORIAN
METHOD:PUBLISH
BEGIN:VEVENT
SUMMARY:AUSGEBUCHT Argumente gegen Klimaskepsis & Co. | Online-Seminar
DTSTART:20210304T170000
DTEND:20210304T200000
UID:2021-12-02-04-36-37-0-@calendar.boell.de
DTSTAMP:20211202T033637
DESCRIPTION:▶ Online-Veranstaltung – Landesstiftung Hamburg
END:VEVENT
END:VCALENDAR
