BEGIN:VCALENDAR
VERSION:2.0
PRODID:-//ZContent.net//ZapCalLib 1.0//EN
CALSCALE:GREGORIAN
METHOD:PUBLISH
BEGIN:VEVENT
SUMMARY:Online-Seminar: Reden schreiben und halten (ausgebucht/Warteliste) 
 | Wie man Reden für jeden Anlass verfasst und überzeugend vorträgt
DTSTART:20210209T150000
DTEND:20210215T190000
UID:2021-12-02-07-30-27-0-@calendar.boell.de
DTSTAMP:20211202T063027
DESCRIPTION:▶ Siehe Veranstaltungsbeschreibung – Landesstiftung Nordrhe
 in-Westfalen
END:VEVENT
END:VCALENDAR
