BEGIN:VCALENDAR
VERSION:2.0
PRODID:-//ZContent.net//ZapCalLib 1.0//EN
CALSCALE:GREGORIAN
METHOD:PUBLISH
BEGIN:VEVENT
SUMMARY:Neue Rechte: | Themen, Diskurse und Kommunikationsofrmen
DTSTART:20210128T180000
DTEND:20210128T200000
UID:2026-04-23-16-44-47-0-@calendar.boell.de
DTSTAMP:20260423T144447
DESCRIPTION:▶ Online-Veranstaltung – Landesstiftung Hessen
END:VEVENT
END:VCALENDAR
