BEGIN:VCALENDAR
VERSION:2.0
PRODID:-//ZContent.net//ZapCalLib 1.0//EN
CALSCALE:GREGORIAN
METHOD:PUBLISH
BEGIN:VEVENT
SUMMARY:Ist das Digitale das neue Reale? 
DTSTART:20210125T190000
DTEND:20210125T203000
UID:2026-04-23-14-49-17-0-@calendar.boell.de
DTSTAMP:20260423T124917
DESCRIPTION:▶ Siehe Veranstaltungsbeschreibung – Landesstiftung Hessen
END:VEVENT
END:VCALENDAR
