BEGIN:VCALENDAR
VERSION:2.0
PRODID:-//ZContent.net//ZapCalLib 1.0//EN
CALSCALE:GREGORIAN
METHOD:PUBLISH
BEGIN:VEVENT
SUMMARY:Club der Denker:innen | Auf Entzug. Unterbrechung als Beginn neuer 
 Beziehungsweisen
DTSTART:20210311T190000
DTEND:20210311T203000
UID:2021-12-02-05-45-57-0-@calendar.boell.de
DTSTAMP:20211202T044557
DESCRIPTION:▶ Siehe Veranstaltungsbeschreibung – Landesstiftung Sachsen
  (Weiterdenken)
END:VEVENT
END:VCALENDAR
