BEGIN:VCALENDAR
VERSION:2.0
PRODID:-//ZContent.net//ZapCalLib 1.0//EN
CALSCALE:GREGORIAN
METHOD:PUBLISH
BEGIN:VEVENT
SUMMARY:FÄLLT AUS Die Welt in Seenot. Wie steht es um die Meere? | Bildung
 surlaub in Schleswig-Holstein
DTSTART:20210919T180000
DTEND:20210924T180000
UID:2021-12-02-04-36-58-0-@calendar.boell.de
DTSTAMP:20211202T033658
DESCRIPTION:▶ Siehe Veranstaltungsbeschreibung – Kiel – Landesstiftun
 g Hamburg
END:VEVENT
END:VCALENDAR
