BEGIN:VCALENDAR
VERSION:2.0
PRODID:-//ZContent.net//ZapCalLib 1.0//EN
CALSCALE:GREGORIAN
METHOD:PUBLISH
BEGIN:VEVENT
SUMMARY:AUSGEBUCHT Diskriminierungssensible Sprache | Online-Seminar
DTSTART:20210204T170000
DTEND:20210204T200000
UID:2026-04-22-22-54-47-0-@calendar.boell.de
DTSTAMP:20260422T205447
DESCRIPTION:▶ Online-Veranstaltung – Landesstiftung Hamburg
END:VEVENT
END:VCALENDAR
