BEGIN:VCALENDAR
VERSION:2.0
PRODID:-//ZContent.net//ZapCalLib 1.0//EN
CALSCALE:GREGORIAN
METHOD:PUBLISH
BEGIN:VEVENT
SUMMARY:AUSGEBUCHT Sachsens ungleiche Schwestern? | Bildungsurlaub in Dresd
 en und Leipzig
DTSTART:20210829T140000
DTEND:20210903T160000
UID:2026-04-23-10-08-05-0-@calendar.boell.de
DTSTAMP:20260423T080805
DESCRIPTION:▶ Siehe Veranstaltungsbeschreibung – Landesstiftung Hamburg
END:VEVENT
END:VCALENDAR
