BEGIN:VCALENDAR
VERSION:2.0
PRODID:-//ZContent.net//ZapCalLib 1.0//EN
CALSCALE:GREGORIAN
METHOD:PUBLISH
BEGIN:VEVENT
SUMMARY:Social Media Workshop - für Einsteiger*innen | 
DTSTART:20210312T180000
DTEND:20210312T200000
UID:2021-12-02-04-24-03-0-@calendar.boell.de
DTSTAMP:20211202T032403
DESCRIPTION:▶ Online-Veranstaltung – GreenCampus
END:VEVENT
BEGIN:VEVENT
SUMMARY:Social Media Workshop - für Einsteiger*innen | 
DTSTART:20210313T100000
DTEND:20210313T150000
UID:2021-12-02-03-24-03-1-@calendar.boell.de
DTSTAMP:20211202T032403
DESCRIPTION:▶ Online-Veranstaltung – GreenCampus
END:VEVENT
END:VCALENDAR
