BEGIN:VCALENDAR
VERSION:2.0
PRODID:-//ZContent.net//ZapCalLib 1.0//EN
CALSCALE:GREGORIAN
METHOD:PUBLISH
BEGIN:VEVENT
SUMMARY:REGARDS FRANCO-ALLEMANDS SUR LES POLITIQUES CLIMATIQUES ET ENVIRONN
 EMENTALES EN EUROPE EN TEMPS DE CRISE | Présentation des résultats d'un 
 sondage franco-allemand
DTSTART:20201209T100000
DTEND:20201209T110000
UID:2026-04-23-04-36-04-0-@calendar.boell.de
DTSTAMP:20260423T023604
DESCRIPTION:▶ Online-Veranstaltung – Heinrich-Böll-Stiftung Paris - Fr
 ankreich | Italien
END:VEVENT
END:VCALENDAR
