BEGIN:VCALENDAR
VERSION:2.0
PRODID:-//ZContent.net//ZapCalLib 1.0//EN
CALSCALE:GREGORIAN
METHOD:PUBLISH
BEGIN:VEVENT
SUMMARY:#7 Menschenrechte unter Beschuss: Herausforderungen und Perspektive
 n
DTSTART:20210202T180000
DTEND:20210202T200000
UID:2026-04-23-22-29-09-0-@calendar.boell.de
DTSTAMP:20260423T202909
DESCRIPTION:▶ Online-Veranstaltung – Heinrich-Böll-Stiftung im Stiftun
 gsverbund
END:VEVENT
END:VCALENDAR
