BEGIN:VCALENDAR
VERSION:2.0
PRODID:-//ZContent.net//ZapCalLib 1.0//EN
CALSCALE:GREGORIAN
METHOD:PUBLISH
BEGIN:VEVENT
SUMMARY:#5 Stadt-Land-Verhältnisse: zwischen Agroexport und Ernährungssou
 veränität | 
DTSTART:20210119T180000
DTEND:20210119T200000
UID:2021-12-02-03-48-51-0-@calendar.boell.de
DTSTAMP:20211202T024851
DESCRIPTION:▶ Online-Veranstaltung – Heinrich-Böll-Stiftung - Bundesst
 iftung Berlin
END:VEVENT
END:VCALENDAR
