BEGIN:VCALENDAR
VERSION:2.0
PRODID:-//ZContent.net//ZapCalLib 1.0//EN
CALSCALE:GREGORIAN
METHOD:PUBLISH
BEGIN:VEVENT
SUMMARY:Grundkurs "CO₂-Bepreisung" | #3 Weiterentwicklung EU-Emissionshan
 del
DTSTART:20210114T140000
DTEND:20210114T151500
UID:2026-04-23-20-25-40-0-@calendar.boell.de
DTSTAMP:20260423T182540
DESCRIPTION:▶ Online-Veranstaltung – Heinrich-Böll-Stiftung im Stiftun
 gsverbund
END:VEVENT
END:VCALENDAR
