BEGIN:VCALENDAR
VERSION:2.0
PRODID:-//ZContent.net//ZapCalLib 1.0//EN
CALSCALE:GREGORIAN
METHOD:PUBLISH
BEGIN:VEVENT
SUMMARY:21. AuÃŸenpolitische Jahrestagung - Elemente eines neuen progressiv
 en Transatlantizismus | Zwischen Hard und Soft Power. Die EuropÃ¤ische Uni
 on in der neuen GroÃŸmachtkonkurrenz
DTSTART:20210121T160000
DTEND:20210121T173000
UID:2021-12-02-03-49-33-0-@calendar.boell.de
DTSTAMP:20211202T024933
DESCRIPTION:Heinrich-BÃ¶ll-Stiftung - Bundesstiftung Berlin â€“ Heinrich-BÃ
 ¶ll-Stiftung - Bundesstiftung Berlin
END:VEVENT
END:VCALENDAR
