BEGIN:VCALENDAR
VERSION:2.0
PRODID:-//ZContent.net//ZapCalLib 1.0//EN
CALSCALE:GREGORIAN
METHOD:PUBLISH
BEGIN:VEVENT
SUMMARY:Ausfall: Vier Länder West (ausgebucht/Warteliste) | Europäische P
 erspektiven auf Geschichte und Klimawandel in der Euregio Maas-Rhein
DTSTART:20210621T100000
DTEND:20210625T190000
UID:2026-04-23-21-01-08-0-@calendar.boell.de
DTSTAMP:20260423T190108
DESCRIPTION:▶ Siehe Veranstaltungsbeschreibung – Landesstiftung Nordrhe
 in-Westfalen
END:VEVENT
END:VCALENDAR
