BEGIN:VCALENDAR
VERSION:2.0
PRODID:-//ZContent.net//ZapCalLib 1.0//EN
CALSCALE:GREGORIAN
METHOD:PUBLISH
BEGIN:VEVENT
SUMMARY:Aris Fioretos, László F. Földényi | Verheißung und Verzehrung 
 | Zweiter Frühling: Nachholtermin, Sehnsucht - Recherche über ein starke
 s Gefühl
DTSTART:20201209T193000
DTEND:20201209T220000
UID:2026-04-22-23-06-46-0-@calendar.boell.de
DTSTAMP:20260422T210646
DESCRIPTION:▶ Siehe Veranstaltungsbeschreibung – Heinrich Böll Stiftun
 g Baden-Württemberg
END:VEVENT
END:VCALENDAR
