BEGIN:VCALENDAR
VERSION:2.0
PRODID:-//ZContent.net//ZapCalLib 1.0//EN
CALSCALE:GREGORIAN
METHOD:PUBLISH
BEGIN:VEVENT
SUMMARY:#4 Umwelt: grenzenlose Zerstörung | 
DTSTART:20210112T180000
DTEND:20210112T200000
UID:2021-12-02-03-48-43-0-@calendar.boell.de
DTSTAMP:20211202T024843
DESCRIPTION:▶ Online-Veranstaltung – Heinrich-Böll-Stiftung - Bundesst
 iftung Berlin
END:VEVENT
END:VCALENDAR
