BEGIN:VCALENDAR
VERSION:2.0
PRODID:-//ZContent.net//ZapCalLib 1.0//EN
CALSCALE:GREGORIAN
METHOD:PUBLISH
BEGIN:VEVENT
SUMMARY:The European Arms Trade is a Feminist Issue | And What We Can Do Ab
 out It
DTSTART:20201210T130000
DTEND:20201210T143000
UID:2026-04-23-02-09-05-0-@calendar.boell.de
DTSTAMP:20260423T000905
DESCRIPTION:▶ Online-Veranstaltung – Externe Veranstaltung
END:VEVENT
END:VCALENDAR
