BEGIN:VCALENDAR
VERSION:2.0
PRODID:-//ZContent.net//ZapCalLib 1.0//EN
CALSCALE:GREGORIAN
METHOD:PUBLISH
BEGIN:VEVENT
SUMMARY:Überall Femizide – nirgendwo Gerechtigkeit | 
DTSTART:20201120T190000
DTEND:20201120T210000
UID:2021-12-02-05-49-29-0-@calendar.boell.de
DTSTAMP:20211202T044929
DESCRIPTION:▶ Online-Veranstaltung – Petra-Kelly-Stiftung
END:VEVENT
END:VCALENDAR
