BEGIN:VCALENDAR
VERSION:2.0
PRODID:-//ZContent.net//ZapCalLib 1.0//EN
CALSCALE:GREGORIAN
METHOD:PUBLISH
BEGIN:VEVENT
SUMMARY:Neue Kommission und Deutsche EU-Ratspräsidentschaft: Was bleibt vo
 m Green Deal in der Krise? | Online-Konferenz
DTSTART:20201124T190000
DTEND:20201124T210000
UID:2026-04-25-13-08-24-0-@calendar.boell.de
DTSTAMP:20260425T110824
DESCRIPTION:▶ Siehe Veranstaltungsbeschreibung – 
END:VEVENT
END:VCALENDAR
