BEGIN:VCALENDAR
VERSION:2.0
PRODID:-//ZContent.net//ZapCalLib 1.0//EN
CALSCALE:GREGORIAN
METHOD:PUBLISH
BEGIN:VEVENT
SUMMARY:Whistleblowing als Gatekeeper? | Missstände in Politik und Alltag 
 aufdecken, aber wie?
DTSTART:20201127T160000
DTEND:20201127T203000
UID:2021-12-02-05-53-10-0-@calendar.boell.de
DTSTAMP:20211202T045310
DESCRIPTION:▶ Siehe Veranstaltungsbeschreibung – Landesstiftung Berlin 
 (Bildungswerk)
END:VEVENT
END:VCALENDAR
