BEGIN:VCALENDAR
VERSION:2.0
PRODID:-//ZContent.net//ZapCalLib 1.0//EN
CALSCALE:GREGORIAN
METHOD:PUBLISH
BEGIN:VEVENT
SUMMARY:Next Generation Central Banking: Climate Change, Inequality, Financ
 ial Instability 
DTSTART:20210203T164500
DTEND:20210205T181500
UID:2026-04-25-14-03-41-0-@calendar.boell.de
DTSTAMP:20260425T120341
DESCRIPTION:▶ Online-Veranstaltung – Heinrich-Böll-Stiftung im Stiftun
 gsverbund
END:VEVENT
END:VCALENDAR
