BEGIN:VCALENDAR
VERSION:2.0
PRODID:-//ZContent.net//ZapCalLib 1.0//EN
CALSCALE:GREGORIAN
METHOD:PUBLISH
BEGIN:VEVENT
SUMMARY:Das eigentliche Verbrechen: Staatsgewalt gegen Menschenrechtsvertei
 diger/innen in Ägypten | 
DTSTART:20201207T183000
DTEND:20201207T200000
UID:2021-12-02-04-32-12-0-@calendar.boell.de
DTSTAMP:20211202T033212
DESCRIPTION:▶ Online-Veranstaltung – Heinrich-Böll-Stiftung - Bundesst
 iftung Berlin
END:VEVENT
END:VCALENDAR
