BEGIN:VCALENDAR
VERSION:2.0
PRODID:-//ZContent.net//ZapCalLib 1.0//EN
CALSCALE:GREGORIAN
METHOD:PUBLISH
BEGIN:VEVENT
SUMMARY:Postpandemisches Theater | Pandemische Räume
DTSTART:20201112T203000
DTEND:20201112T220000
UID:2021-12-02-04-23-30-0-@calendar.boell.de
DTSTAMP:20211202T032330
DESCRIPTION:▶ Livestream auf boell.de/stream – Externe Veranstaltung
END:VEVENT
END:VCALENDAR
