BEGIN:VCALENDAR
VERSION:2.0
PRODID:-//ZContent.net//ZapCalLib 1.0//EN
CALSCALE:GREGORIAN
METHOD:PUBLISH
BEGIN:VEVENT
SUMMARY:Stadt auf Probe in Görlitz - Anforderungen an einen zukunftsfähig
 en Wohn- und Arbeitsstandort in einer Mittelstadt | Online-Vorlesung aus d
 er Ring-Vorlesung WOHN(T)RAUM
DTSTART:20210126T163000
DTEND:20210126T180000
UID:2026-04-23-23-28-36-0-@calendar.boell.de
DTSTAMP:20260423T212836
DESCRIPTION:▶ Online-Veranstaltung – Landesstiftung Sachsen (Weiterdenk
 en)
END:VEVENT
END:VCALENDAR
