BEGIN:VCALENDAR
VERSION:2.0
PRODID:-//ZContent.net//ZapCalLib 1.0//EN
CALSCALE:GREGORIAN
METHOD:PUBLISH
BEGIN:VEVENT
SUMMARY:Finanzialisierung von Wohnraum | Online-Vorlesung aus der Ring-Vorl
 esung WOHN(T)RAUM
DTSTART:20210119T163000
DTEND:20210119T180000
UID:2026-04-23-05-59-39-0-@calendar.boell.de
DTSTAMP:20260423T035939
DESCRIPTION:▶ Online-Veranstaltung – Landesstiftung Sachsen (Weiterdenk
 en)
END:VEVENT
END:VCALENDAR
