BEGIN:VCALENDAR
VERSION:2.0
PRODID:-//ZContent.net//ZapCalLib 1.0//EN
CALSCALE:GREGORIAN
METHOD:PUBLISH
BEGIN:VEVENT
SUMMARY:Runder Tisch Brasilien: Kommunikation und Aktion in der Krise | Wer
 tewandel in Brasilien
DTSTART:20201204T180000
DTEND:20201205T213000
UID:2021-12-02-01-30-59-0-@calendar.boell.de
DTSTAMP:20211202T003059
DESCRIPTION:▶ Online-Veranstaltung – Heinrich-Böll-Stiftung - Bundesst
 iftung Berlin
END:VEVENT
END:VCALENDAR
