BEGIN:VCALENDAR
VERSION:2.0
PRODID:-//ZContent.net//ZapCalLib 1.0//EN
CALSCALE:GREGORIAN
METHOD:PUBLISH
BEGIN:VEVENT
SUMMARY:Feminismus heute | Eine Reise ins politische und zivilgesellschaftl
 iche Berlin
DTSTART:20210830T110000
DTEND:20210903T153000
UID:2026-04-25-01-36-15-0-@calendar.boell.de
DTSTAMP:20260424T233615
DESCRIPTION:▶ Siehe Veranstaltungsbeschreibung – Berlin – Landesstift
 ung Nordrhein-Westfalen
END:VEVENT
END:VCALENDAR
