BEGIN:VCALENDAR
VERSION:2.0
PRODID:-//ZContent.net//ZapCalLib 1.0//EN
CALSCALE:GREGORIAN
METHOD:PUBLISH
BEGIN:VEVENT
SUMMARY:Wohnungspolitik und die Permanenz der Wohnungsfrage. Anmerkungen. |
  Online-Veranstaltung aus der Ring-Vorlesung WOHN(T)RAUM
DTSTART:20201117T163000
DTEND:20201117T180000
UID:2026-04-22-22-54-37-0-@calendar.boell.de
DTSTAMP:20260422T205437
DESCRIPTION:▶ Online-Veranstaltung – Landesstiftung Sachsen (Weiterdenk
 en)
END:VEVENT
END:VCALENDAR
