BEGIN:VCALENDAR
VERSION:2.0
PRODID:-//ZContent.net//ZapCalLib 1.0//EN
CALSCALE:GREGORIAN
METHOD:PUBLISH
BEGIN:VEVENT
SUMMARY:Ohne Wohnung keine Bleibe – Obdachlos und rechtelos in Zeiten von
  Corona? | Onlinespaziergang mit ehemals Obdachlosen und Online-Gespräch
DTSTART:20201112T163000
DTEND:20201112T193000
UID:2021-12-02-05-53-11-0-@calendar.boell.de
DTSTAMP:20211202T045311
DESCRIPTION:▶ Siehe Veranstaltungsbeschreibung – Landesstiftung Berlin 
 (Bildungswerk)
END:VEVENT
END:VCALENDAR
