BEGIN:VCALENDAR
VERSION:2.0
PRODID:-//ZContent.net//ZapCalLib 1.0//EN
CALSCALE:GREGORIAN
METHOD:PUBLISH
BEGIN:VEVENT
SUMMARY:Neue Rechte: Themen, Diskurse und Kommunikationsformen
DTSTART:20201102T180000
DTEND:20201102T200000
UID:2026-04-22-21-34-39-0-@calendar.boell.de
DTSTAMP:20260422T193439
DESCRIPTION:▶ Online-Veranstaltung – Landesstiftung Hessen
END:VEVENT
END:VCALENDAR
