BEGIN:VCALENDAR
VERSION:2.0
PRODID:-//ZContent.net//ZapCalLib 1.0//EN
CALSCALE:GREGORIAN
METHOD:PUBLISH
BEGIN:VEVENT
SUMMARY:Games - Do it yourself! | Prototyping Workshop 
DTSTART:20201110T180000
DTEND:20201110T210000
UID:2021-12-02-04-23-08-0-@calendar.boell.de
DTSTAMP:20211202T032308
DESCRIPTION:▶ Siehe Veranstaltungsbeschreibung – Hannover – Landessti
 ftung Niedersachsen (Leben & Umwelt)
END:VEVENT
END:VCALENDAR
